BEGIN:VCALENDAR
VERSION:2.0
PRODID:-//SVP Hinwil //NONSGML Events //EN
CALSCALE:GREGORIAN
X-WR-CALNAME:SVP Hinwil
BEGIN:VEVENT
CREATED:20251218T194037Z
UID:1529
DTEND:20260604T000000
DTSTART:20260604T000000
DTSTAMP:20260425T152000Z
LOCATION:
DESCRIPTION:
SUMMARY:Stammtisch
ORGANIZER:
URL;VALUE=URI:https://www.svp-hinwil.ch/termine/stammtisch-4/
TRANSP:OPAQUE
END:VEVENT
END:VCALENDAR
