BEGIN:VCALENDAR
VERSION:2.0
PRODID:-//SVP Hinwil //NONSGML Events //EN
CALSCALE:GREGORIAN
X-WR-CALNAME:SVP Hinwil
BEGIN:VEVENT
CREATED:20251218T193955Z
UID:1527
DTEND:20260528T000000
DTSTART:20260528T000000
DTSTAMP:20260425T152617Z
LOCATION:
DESCRIPTION:
SUMMARY:Parteiversammlung
ORGANIZER:
URL;VALUE=URI:https://www.svp-hinwil.ch/termine/parteiversammlung-7/
TRANSP:OPAQUE
END:VEVENT
END:VCALENDAR
