BEGIN:VCALENDAR
VERSION:2.0
PRODID:-//SVP Hinwil //NONSGML Events //EN
CALSCALE:GREGORIAN
X-WR-CALNAME:SVP Hinwil
BEGIN:VEVENT
CREATED:20251218T193852Z
UID:1525
DTEND:20260526T000000
DTSTART:20260526T000000
DTSTAMP:20260425T151647Z
LOCATION:
DESCRIPTION:
SUMMARY:Vorstandssitzung
ORGANIZER:
URL;VALUE=URI:https://www.svp-hinwil.ch/termine/vorstandssitzung-3/
TRANSP:OPAQUE
END:VEVENT
END:VCALENDAR
