BEGIN:VCALENDAR
VERSION:2.0
PRODID:-//SVP Hinwil //NONSGML Events //EN
CALSCALE:GREGORIAN
X-WR-CALNAME:SVP Hinwil
BEGIN:VEVENT
CREATED:20251218T193800Z
UID:1523
DTEND:20260507T000000
DTSTART:20260507T000000
DTSTAMP:20260425T164329Z
LOCATION:
DESCRIPTION:
SUMMARY:Stammtisch
ORGANIZER:
URL;VALUE=URI:https://www.svp-hinwil.ch/termine/stammtisch-3/
TRANSP:OPAQUE
END:VEVENT
END:VCALENDAR
