BEGIN:VCALENDAR
VERSION:2.0
PRODID:-//SVP Hinwil //NONSGML Events //EN
CALSCALE:GREGORIAN
X-WR-CALNAME:SVP Hinwil
BEGIN:VEVENT
CREATED:20251111T101225Z
UID:1381
DTEND:20260501T000000
DTSTART:20260427T000000
DTSTAMP:20260425T134156Z
LOCATION:Bern
DESCRIPTION:
SUMMARY:Sondersession
ORGANIZER:
URL;VALUE=URI:https://www.svp-hinwil.ch/termine/sondersession-2/
TRANSP:OPAQUE
END:VEVENT
END:VCALENDAR
