BEGIN:VCALENDAR
VERSION:2.0
PRODID:-//SVP Hinwil //NONSGML Events //EN
CALSCALE:GREGORIAN
X-WR-CALNAME:SVP Hinwil
BEGIN:VEVENT
CREATED:20251111T101354Z
UID:1380
DTEND:20260505T000000
DTSTART:20260505T000000
DTSTAMP:20260425T151811Z
LOCATION:
DESCRIPTION:
SUMMARY:Parteileitung SVP Bezirk Hinwil
ORGANIZER:
URL;VALUE=URI:https://www.svp-hinwil.ch/termine/parteileitung-svp-bezirk-hinwil-11/
TRANSP:OPAQUE
END:VEVENT
END:VCALENDAR
