BEGIN:VCALENDAR
VERSION:2.0
PRODID:-//SVP Hinwil //NONSGML Events //EN
CALSCALE:GREGORIAN
X-WR-CALNAME:SVP Hinwil
BEGIN:VEVENT
CREATED:20251111T101606Z
UID:1379
DTEND:20260508T000000
DTSTART:20260508T000000
DTSTAMP:20260421T122725Z
LOCATION:Fischenthal
DESCRIPTION:
SUMMARY:DV SVP Bezirk Hinwil
ORGANIZER:
URL;VALUE=URI:https://www.svp-hinwil.ch/termine/dv-svp-bezirk-hinwil-3/
TRANSP:OPAQUE
END:VEVENT
END:VCALENDAR
