BEGIN:VCALENDAR
VERSION:2.0
PRODID:-//SVP Hinwil //NONSGML Events //EN
CALSCALE:GREGORIAN
X-WR-CALNAME:SVP Hinwil
BEGIN:VEVENT
CREATED:20251111T101652Z
UID:1378
DTEND:20260509T000000
DTSTART:20260509T000000
DTSTAMP:20260425T151159Z
LOCATION:Wetzikon
DESCRIPTION:
SUMMARY:Kadertagung SVP Kanton Zürich
ORGANIZER:
URL;VALUE=URI:https://www.svp-hinwil.ch/termine/kadertagung-svp-kanton-zuerich-2/
TRANSP:OPAQUE
END:VEVENT
END:VCALENDAR
