BEGIN:VCALENDAR
VERSION:2.0
PRODID:-//SVP Hinwil //NONSGML Events //EN
CALSCALE:GREGORIAN
X-WR-CALNAME:SVP Hinwil
BEGIN:VEVENT
CREATED:20251111T101914Z
UID:1377
DTEND:20260601T000000
DTSTART:20260601T000000
DTSTAMP:20260425T151926Z
LOCATION:Bern
DESCRIPTION:
SUMMARY:Sommersession
ORGANIZER:
URL;VALUE=URI:https://www.svp-hinwil.ch/termine/sommersession-4/
TRANSP:OPAQUE
END:VEVENT
END:VCALENDAR
