BEGIN:VCALENDAR
VERSION:2.0
PRODID:-//SVP Hinwil //NONSGML Events //EN
CALSCALE:GREGORIAN
X-WR-CALNAME:SVP Hinwil
BEGIN:VEVENT
CREATED:20250107T114342Z
UID:1141
DTEND:20250329T000000
DTSTART:20250329T000000
DTSTAMP:20260420T082018Z
LOCATION:Waadt
DESCRIPTION:
SUMMARY:Delegiertenversammlung SVP Schweiz
ORGANIZER:
URL;VALUE=URI:https://www.svp-hinwil.ch/termine/delegiertenversammlung-svp-schweiz-7/
TRANSP:OPAQUE
END:VEVENT
END:VCALENDAR
